BEGIN:VCALENDAR
VERSION:2.0
PRODID:-//hacksw/handcal//NONSGML v1.0//EN
BEGIN:VEVENT
DTSTAMP:20250424T173000Z
DTSTART:20250424T173000Z
DTEND:20250424T190000Z
LOCATION:Villa Trapp bei Sparkasse Oberhessen, Ockstädter Straße 6, Friedberg, 61169 , Deutschland
SUMMARY:Vortrags- und Diskussionsveranstaltung zum Thema „Novelle des Baurechts in Hessen“
END:VEVENT
END:VCALENDAR
