BEGIN:VCALENDAR
VERSION:2.0
PRODID:-//hacksw/handcal//NONSGML v1.0//EN
BEGIN:VEVENT
DTSTAMP:20240508T180000Z
DTSTART:20240508T180000Z
DTEND:20240508T180000Z
LOCATION:ITZ Fulda, Am Alten Schlachthof 4, Fulda, 36037, Deutschland
SUMMARY:Anpacken für Deutschland
END:VEVENT
END:VCALENDAR
