BEGIN:VCALENDAR
VERSION:2.0
PRODID:-//hacksw/handcal//NONSGML v1.0//EN
BEGIN:VEVENT
DTSTAMP:20210909T053000Z
DTSTART:20210909T053000Z
DTEND:20210909T070000Z
LOCATION:Restaurant Teichhaus, Nördlicher Park 16, Bad Nauheim, 61231, Deutschland
SUMMARY:Exklusives Businessfrühstück mit den Kandidaten der CDU zu Bundestagswahl
END:VEVENT
END:VCALENDAR
