BEGIN:VCALENDAR
VERSION:2.0
PRODID:-//hacksw/handcal//NONSGML v1.0//EN
BEGIN:VEVENT
DTSTAMP:20180609T140000Z
DTSTART:20180609T140000Z
DTEND:20180609T140000Z
SUMMARY:Bezirksmitgliederversammlung mit Vorstandsneuwahlen des MIT Bezirksverbandes Südhessen mit Manfred Pentz, Generalsekretär CDU Hessen
END:VEVENT
END:VCALENDAR
