BEGIN:VCALENDAR
VERSION:2.0
PRODID:-//hacksw/handcal//NONSGML v1.0//EN
BEGIN:VEVENT
DTSTAMP:20180424T173000Z
DTSTART:20180424T173000Z
DTEND:20180424T173000Z
SUMMARY:MIT Hochtaunus lädt einer zu einer Veranstaltung: Freak Management - Esoterik in der Unternehmensberatung
END:VEVENT
END:VCALENDAR
