BEGIN:VCALENDAR
VERSION:2.0
PRODID:-//hacksw/handcal//NONSGML v1.0//EN
BEGIN:VEVENT
DTSTAMP:20171107T170000Z
DTSTART:20171107T170000Z
DTEND:20171107T170000Z
SUMMARY:MIT Petersberg lädt zu einer Veranstaltung „Das Unternehmertestament“ Referent: Dr. Gerhard Schlitt ein
END:VEVENT
END:VCALENDAR
