BEGIN:VCALENDAR
VERSION:2.0
PRODID:-//hacksw/handcal//NONSGML v1.0//EN
BEGIN:VEVENT
DTSTAMP:20170315T180000Z
DTSTART:20170315T180000Z
DTEND:20170315T180000Z
SUMMARY:"Geldanlage in der Niedrigzinsphase" und "Aktuelle Förderkreditangebote der KfW" Veranstaltung der MIT Hessisches Kegelspiel 
END:VEVENT
END:VCALENDAR
